BEGIN:VCALENDAR
VERSION:2.0
PRODID:-// - ECPv6.15.20//NONSGML v1.0//EN
CALSCALE:GREGORIAN
METHOD:PUBLISH
X-ORIGINAL-URL:https://randolphcountyal.com
X-WR-CALDESC:Events for 
REFRESH-INTERVAL;VALUE=DURATION:PT1H
X-Robots-Tag:noindex
X-PUBLISHED-TTL:PT1H
BEGIN:VTIMEZONE
TZID:America/Chicago
BEGIN:DAYLIGHT
TZOFFSETFROM:-0600
TZOFFSETTO:-0500
TZNAME:CDT
DTSTART:20100314T080000
END:DAYLIGHT
BEGIN:STANDARD
TZOFFSETFROM:-0500
TZOFFSETTO:-0600
TZNAME:CST
DTSTART:20101107T070000
END:STANDARD
BEGIN:DAYLIGHT
TZOFFSETFROM:-0600
TZOFFSETTO:-0500
TZNAME:CDT
DTSTART:20110313T080000
END:DAYLIGHT
BEGIN:STANDARD
TZOFFSETFROM:-0500
TZOFFSETTO:-0600
TZNAME:CST
DTSTART:20111106T070000
END:STANDARD
BEGIN:DAYLIGHT
TZOFFSETFROM:-0600
TZOFFSETTO:-0500
TZNAME:CDT
DTSTART:20120311T080000
END:DAYLIGHT
BEGIN:STANDARD
TZOFFSETFROM:-0500
TZOFFSETTO:-0600
TZNAME:CST
DTSTART:20121104T070000
END:STANDARD
BEGIN:DAYLIGHT
TZOFFSETFROM:-0600
TZOFFSETTO:-0500
TZNAME:CDT
DTSTART:20130310T080000
END:DAYLIGHT
BEGIN:STANDARD
TZOFFSETFROM:-0500
TZOFFSETTO:-0600
TZNAME:CST
DTSTART:20131103T070000
END:STANDARD
END:VTIMEZONE
BEGIN:VEVENT
DTSTART;TZID=America/Chicago:20120614T170000
DTEND;TZID=America/Chicago:20120714T220059
DTSTAMP:20260422T154035
CREATED:20120702T223828Z
LAST-MODIFIED:20120702T223948Z
UID:347-1339693200-1342303259@randolphcountyal.com
SUMMARY:Rodeo 2012
DESCRIPTION:Click the Banner on your left for more information.
URL:https://randolphcountyal.com/calendar/rodeo-2012/
LOCATION:Wedowee Building Supply\,  HWY 431\, Wedowee\, United States
END:VEVENT
BEGIN:VEVENT
DTSTART;VALUE=DATE:20120602
DTEND;VALUE=DATE:20120603
DTSTAMP:20260422T154035
CREATED:20120227T073834Z
LAST-MODIFIED:20120227T073834Z
UID:322-1338595200-1338681599@randolphcountyal.com
SUMMARY:Summer on Main Street
DESCRIPTION:June 2\, 2012- more details coming soon.
URL:https://randolphcountyal.com/calendar/summer-on-main-street/
END:VEVENT
BEGIN:VEVENT
DTSTART;TZID=America/Chicago:20120503T070000
DTEND;TZID=America/Chicago:20120505T080059
DTSTAMP:20260422T154035
CREATED:20120227T073505Z
LAST-MODIFIED:20120227T073649Z
UID:319-1336028400-1336204859@randolphcountyal.com
SUMMARY:Annual Prayer Breakfast
DESCRIPTION:May 3\, 2012 – 5th Annual Prayer Breakfast in celebration of the National Day of Prayer 7:00 am until 8:00 am Public is invited-NO CHARGE- reservation is requested. This event is at 1st United Meth Church McDonald Family Life Center.
URL:https://randolphcountyal.com/calendar/annual-prayer-breakfast/
LOCATION:1st United Meth Church McDonald Family Life Center\, 36274\, United States
END:VEVENT
BEGIN:VEVENT
DTSTART;TZID=America/Chicago:20120320T113000
DTEND;TZID=America/Chicago:20120320T130059
DTSTAMP:20260422T154035
CREATED:20120227T073052Z
LAST-MODIFIED:20120227T073052Z
UID:316-1332243000-1332248459@randolphcountyal.com
SUMMARY:The 22nd Annual Professional Women’s Luncheon
DESCRIPTION:First United Methodist Church McDonald Family Life Center- Roanoke\, AL- March 20\, 2012- 11:30 am until 1:00 pm. Tickets $16.00 ea.
URL:https://randolphcountyal.com/calendar/the-22nd-annual-professional-women%e2%80%99s-luncheon/
LOCATION:First United Methodist Church McDonald Family Life Center\, AL\, United States
END:VEVENT
BEGIN:VEVENT
DTSTART;TZID=America/Chicago:20111018T180000
DTEND;TZID=America/Chicago:20111018T200059
DTSTAMP:20260422T154035
CREATED:20111019T101013Z
LAST-MODIFIED:20111019T101013Z
UID:238-1318960800-1318968059@randolphcountyal.com
SUMMARY:Annual Meeting
DESCRIPTION:The Randolph County Chamber of Commerce Officers and Board of Directors cordially invites you to be their guest for the Annual Meeting at 6:00 pm on Tuesday\, October 18\, 2011 at Chimney Cove 126 Fireside Drive  Wedowee\, AL. Please RSVP to 334-863-6612 or 334-863-1402 or rancococ@teleclipse.net no later than noon on Friday\, October 14th.
URL:https://randolphcountyal.com/calendar/annual-meeting/
LOCATION:Chimney Cove\, 126 Fireside Drive\, Wedowee\, AL\, United States
END:VEVENT
END:VCALENDAR