BEGIN:VCALENDAR
VERSION:2.0
PRODID:-// - ECPv6.15.20//NONSGML v1.0//EN
CALSCALE:GREGORIAN
METHOD:PUBLISH
X-ORIGINAL-URL:https://randolphcountyal.com
X-WR-CALDESC:Events for 
REFRESH-INTERVAL;VALUE=DURATION:PT1H
X-Robots-Tag:noindex
X-PUBLISHED-TTL:PT1H
BEGIN:VTIMEZONE
TZID:America/Chicago
BEGIN:DAYLIGHT
TZOFFSETFROM:-0600
TZOFFSETTO:-0500
TZNAME:CDT
DTSTART:20120311T080000
END:DAYLIGHT
BEGIN:STANDARD
TZOFFSETFROM:-0500
TZOFFSETTO:-0600
TZNAME:CST
DTSTART:20121104T070000
END:STANDARD
BEGIN:DAYLIGHT
TZOFFSETFROM:-0600
TZOFFSETTO:-0500
TZNAME:CDT
DTSTART:20130310T080000
END:DAYLIGHT
BEGIN:STANDARD
TZOFFSETFROM:-0500
TZOFFSETTO:-0600
TZNAME:CST
DTSTART:20131103T070000
END:STANDARD
BEGIN:DAYLIGHT
TZOFFSETFROM:-0600
TZOFFSETTO:-0500
TZNAME:CDT
DTSTART:20140309T080000
END:DAYLIGHT
BEGIN:STANDARD
TZOFFSETFROM:-0500
TZOFFSETTO:-0600
TZNAME:CST
DTSTART:20141102T070000
END:STANDARD
BEGIN:DAYLIGHT
TZOFFSETFROM:-0600
TZOFFSETTO:-0500
TZNAME:CDT
DTSTART:20150308T080000
END:DAYLIGHT
BEGIN:STANDARD
TZOFFSETFROM:-0500
TZOFFSETTO:-0600
TZNAME:CST
DTSTART:20151101T070000
END:STANDARD
END:VTIMEZONE
BEGIN:VEVENT
DTSTART;TZID=America/Chicago:20140726T200000
DTEND;TZID=America/Chicago:20140726T220000
DTSTAMP:20260422T211045
CREATED:20140716T175326Z
LAST-MODIFIED:20140716T175326Z
UID:1000-1406404800-1406412000@randolphcountyal.com
SUMMARY:Movie Night at Main Street Theatre
DESCRIPTION:The Rotary Club will be offering their first FREE family movie night at the Main Street Theatre. Saturday\, July 26th at 8:00 PM they will be showing the newly released “THE LEGO MOVIE.” Bring your lawn chairs\, your popcorn and drinks for this exciting night in Downtown Roanoke (no glass please)! Hope to see you all there!
URL:https://randolphcountyal.com/calendar/movie-night-main-street-theatre/
LOCATION:Main Street Theatre\, Roanoke\, AL\, 36274\, United States
CATEGORIES:Roanoke City Event
END:VEVENT
BEGIN:VEVENT
DTSTART;VALUE=DATE:20130413
DTEND;VALUE=DATE:20130414
DTSTAMP:20260422T211045
CREATED:20130408T200935Z
LAST-MODIFIED:20130408T200935Z
UID:369-1365811200-1365897599@randolphcountyal.com
SUMMARY:Hwy. 22 Yard Sale
DESCRIPTION:April 13 will be a busy day in Randolph County starting with the Alabama Highway 22 yard sale from New Site to Rock Mills and all the towns between. \nSpaces will be drawn off on the old Snax Deli property\, and if people want to set up Friday\, the day before\, they are welcome to do that. Space will be on a first-come\, first-served basis. Church Street will be closed to through traffic. People selling items are asked to park elsewhere so customers can park on Main Street. \nContact City Hall 334-863-4129
URL:https://randolphcountyal.com/calendar/hwy-22-yard-sale/
LOCATION:Hwy 22\, Hwy 22\, Roanoke\, AL\, United States
CATEGORIES:Roanoke City Event
END:VEVENT
END:VCALENDAR